BEGIN:VCALENDAR
VERSION:2.0
PRODID:-//wp-events-plugin.com//7.2.3.1//EN
TZID:Europe/Berlin
X-WR-TIMEZONE:Europe/Berlin
BEGIN:VEVENT
UID:268@raffini-kinderevents.de
DTSTART;TZID=Europe/Berlin:20170507T110000
DTEND;TZID=Europe/Berlin:20170507T150000
DTSTAMP:20240614T125726Z
URL:https://www.raffini-kinderevents.de/veranstaltungen/tag-der-offenen-tu
 er-geburtshilfe-und-elternschule-im-diakonissenkrankenhaus-mannheim/
SUMMARY:Tag der offenen Tür\, Geburtshilfe und Elternschule im Diakonissen
 krankenhaus Mannheim
DESCRIPTION:Tag der offenen Tür\, Geburtshilfe und Elternschule im Diakoni
 ssenkrankenhaus Mannheim
CATEGORIES:Event mit Kinderbereich,Kinderaktion,Raffini Kinderevents -
 unsere Events,Tag der offenen Tür
LOCATION:Franklin Mannheim\, Franklin Mannheim\, Mannheim\, Baden-Württemb
 erg\, 68309\, Germany
X-APPLE-STRUCTURED-LOCATION;VALUE=URI;X-ADDRESS=Franklin Mannheim\, Mannhei
 m\, Baden-Württemberg\, 68309\, Germany;X-APPLE-RADIUS=100;X-TITLE=Frankl
 in Mannheim:geo:0,0
END:VEVENT
BEGIN:VTIMEZONE
TZID:Europe/Berlin
X-LIC-LOCATION:Europe/Berlin
BEGIN:DAYLIGHT
DTSTART:20170326T030000
TZOFFSETFROM:+0100
TZOFFSETTO:+0200
TZNAME:CEST
END:DAYLIGHT
END:VTIMEZONE
END:VCALENDAR