BEGIN:VCALENDAR
VERSION:2.0
PRODID:-//wp-events-plugin.com//7.2.3.1//EN
TZID:Europe/Berlin
X-WR-TIMEZONE:Europe/Berlin
BEGIN:VEVENT
UID:54@raffini-kinderevents.de
DTSTART;TZID=Europe/Berlin:20210201T003000
DTEND;TZID=Europe/Berlin:20210201T231500
DTSTAMP:20240614T125503Z
URL:https://www.raffini-kinderevents.de/veranstaltungen/test-event/
SUMMARY:Test Event
DESCRIPTION:Test Event
LOCATION:CabaLela – Cabriobad Leiningerland  Grünstadt\, CabaLela – Ca
 briobad Leiningerland \, Grünstadt\, Rheinland-Pfalz\, 67269\, Germany
X-APPLE-STRUCTURED-LOCATION;VALUE=URI;X-ADDRESS=CabaLela – Cabriobad Lein
 ingerland \, Grünstadt\, Rheinland-Pfalz\, 67269\, Germany;X-APPLE-RADIUS
 =100;X-TITLE=CabaLela – Cabriobad Leiningerland  Grünstadt:geo:0,0
END:VEVENT
BEGIN:VTIMEZONE
TZID:Europe/Berlin
X-LIC-LOCATION:Europe/Berlin
BEGIN:STANDARD
DTSTART:20201025T020000
TZOFFSETFROM:+0200
TZOFFSETTO:+0100
TZNAME:CET
END:STANDARD
END:VTIMEZONE
END:VCALENDAR