BEGIN:VCALENDAR
VERSION:2.0
PRODID:-//wp-events-plugin.com//7.2.3.1//EN
TZID:Europe/Berlin
X-WR-TIMEZONE:Europe/Berlin
BEGIN:VEVENT
UID:55@raffini-kinderevents.de
DTSTART;TZID=Europe/Berlin:20200308T140000
DTEND;TZID=Europe/Berlin:20200308T170000
DTSTAMP:20240614T125504Z
URL:https://www.raffini-kinderevents.de/veranstaltungen/familiensonntag-mi
 t-grueffelo-in-der-stadtbibliothek-mannheim/
SUMMARY:Familiensonntag mit Grueffelo in der Stadtbibliothek Mannheim
DESCRIPTION:Familiensonntag mit Grueffelo in der Stadtbibliothek Mannheim
CATEGORIES:Basteln Aktion,Event mit
 Kinderbereich,Familienevent,Kinderattraktion - kostenpflichtig,Spiele
LOCATION:CabaLela – Cabriobad Leiningerland  Grünstadt\, CabaLela – Ca
 briobad Leiningerland \, Grünstadt\, Rheinland-Pfalz\, 67269\, Germany
X-APPLE-STRUCTURED-LOCATION;VALUE=URI;X-ADDRESS=CabaLela – Cabriobad Lein
 ingerland \, Grünstadt\, Rheinland-Pfalz\, 67269\, Germany;X-APPLE-RADIUS
 =100;X-TITLE=CabaLela – Cabriobad Leiningerland  Grünstadt:geo:0,0
END:VEVENT
BEGIN:VTIMEZONE
TZID:Europe/Berlin
X-LIC-LOCATION:Europe/Berlin
BEGIN:STANDARD
DTSTART:20191027T020000
TZOFFSETFROM:+0200
TZOFFSETTO:+0100
TZNAME:CET
END:STANDARD
END:VTIMEZONE
END:VCALENDAR