BEGIN:VCALENDAR
VERSION:2.0
PRODID:-//wp-events-plugin.com//7.2.3.1//EN
TZID:Europe/Berlin
X-WR-TIMEZONE:Europe/Berlin
BEGIN:VEVENT
UID:48@raffini-kinderevents.de
DTSTART;TZID=Europe/Berlin:20211206T150000
DTEND;TZID=Europe/Berlin:20211206T180000
DTSTAMP:20240614T125501Z
URL:https://www.raffini-kinderevents.de/veranstaltungen/nikolaus-besuch-we
 ihnachtsmarkt-ludwigshafen/
SUMMARY:Nikolaus Besuch\, Weihnachtsmarkt Ludwigshafen
DESCRIPTION:Nikolaus Besuch\, Weihnachtsmarkt Ludwigshafen
LOCATION:REM Mannheim\, REM Mannheim\, Mannheim\, Baden-Württemberg\, 6815
 9\, Germany
X-APPLE-STRUCTURED-LOCATION;VALUE=URI;X-ADDRESS=REM Mannheim\, Mannheim\, B
 aden-Württemberg\, 68159\, Germany;X-APPLE-RADIUS=100;X-TITLE=REM Mannhei
 m:geo:0,0
END:VEVENT
BEGIN:VTIMEZONE
TZID:Europe/Berlin
X-LIC-LOCATION:Europe/Berlin
BEGIN:STANDARD
DTSTART:20211031T020000
TZOFFSETFROM:+0200
TZOFFSETTO:+0100
TZNAME:CET
END:STANDARD
END:VTIMEZONE
END:VCALENDAR