BEGIN:VCALENDAR
VERSION:2.0
PRODID:-//wp-events-plugin.com//7.2.3.1//EN
TZID:Europe/Berlin
X-WR-TIMEZONE:Europe/Berlin
BEGIN:VEVENT
UID:173@raffini-kinderevents.de
DTSTART;TZID=Europe/Berlin:20180904T130000
DTEND;TZID=Europe/Berlin:20180904T170000
DTSTAMP:20240614T125553Z
URL:https://www.raffini-kinderevents.de/veranstaltungen/glitzer-tattoos-be
 i-30-jahre-globus-neustadt-a-d-w-mit-raffini-kinderevents/
SUMMARY:Glitzer Tattoos bei 30 Jahre Globus Neustadt a.d.W. mit Raffini Kin
 derevents
DESCRIPTION:Glitzer Tattoos bei 30 Jahre Globus Neustadt a.d.W. mit Raffini
  Kinderevents
CATEGORIES:Glitzer Tattoos,Kinderaktion,Raffini Kinderevents - unsere
 Events
LOCATION:Rosengarten Mannheim\, Rosengarten Mannheim\, Mannheim\, Baden-Wü
 rttemberg\, 68161 \, Germany
X-APPLE-STRUCTURED-LOCATION;VALUE=URI;X-ADDRESS=Rosengarten Mannheim\, Mann
 heim\, Baden-Württemberg\, 68161 \, Germany;X-APPLE-RADIUS=100;X-TITLE=Ro
 sengarten Mannheim:geo:0,0
END:VEVENT
BEGIN:VTIMEZONE
TZID:Europe/Berlin
X-LIC-LOCATION:Europe/Berlin
BEGIN:DAYLIGHT
DTSTART:20180325T030000
TZOFFSETFROM:+0100
TZOFFSETTO:+0200
TZNAME:CEST
END:DAYLIGHT
END:VTIMEZONE
END:VCALENDAR