BEGIN:VCALENDAR
VERSION:2.0
PRODID:-//wp-events-plugin.com//7.2.3.1//EN
TZID:Europe/Berlin
X-WR-TIMEZONE:Europe/Berlin
BEGIN:VEVENT
UID:375@raffini-kinderevents.de
DTSTART;TZID=Europe/Berlin:20260125T100000
DTEND;TZID=Europe/Berlin:20260125T170000
DTSTAMP:20260120T195116Z
URL:https://www.raffini-kinderevents.de/veranstaltungen/kinder-mitmachakti
 onen-bei-rhein-neckar-creativ-messe-ludwigshafen-2/
SUMMARY:Kinder Mitmachaktionen bei Rhein-Neckar Creativ Messe Ludwigshafen
DESCRIPTION:Kinder Mitmachaktionen bei Rhein-Neckar Creativ Messe Ludwigsha
 fenKinder Mitmachaktionen bei Rhein-Neckar Creativ Messe Ludwigshafen mit 
 Recycling Basteln\, Kinderschminken\, Ballons\, Glitzer Tattoos\, Haarstr
 ähnchen und Bubble Braids sowie Foam Clay Styropor Figuren und Slime Work
 shop\, Glückswerkstatt und Lady Bug besuch mit Raffini Maskottchen
CATEGORIES:Basteln Aktion,Event mit Kinderbereich,Familienevent,Glitzer
 Tattoos,Kinderattraktion -
 kostenpflichtig,Kinderschminken,Luftballonmodellage,Maskottchen
 Besuch,Messen,Nachhaltigkeit,Raffini Kinderevents - unsere
 Events,Recycling Basteln,Veranstaltungstipps
LOCATION:Eberthalle Ludwigshafen\, Eberthalle Ludwigshafen\, Ludwigshafen\,
  Rheinland-Pfalz\, 67063 \, Germany
X-APPLE-STRUCTURED-LOCATION;VALUE=URI;X-ADDRESS=Eberthalle Ludwigshafen\, L
 udwigshafen\, Rheinland-Pfalz\, 67063 \, Germany;X-APPLE-RADIUS=100;X-TITL
 E=Eberthalle Ludwigshafen:geo:0,0
END:VEVENT
BEGIN:VTIMEZONE
TZID:Europe/Berlin
X-LIC-LOCATION:Europe/Berlin
BEGIN:STANDARD
DTSTART:20251026T020000
TZOFFSETFROM:+0200
TZOFFSETTO:+0100
TZNAME:CET
END:STANDARD
END:VTIMEZONE
END:VCALENDAR