BEGIN:VCALENDAR
VERSION:2.0
PRODID:-//wp-events-plugin.com//7.2.3.1//EN
TZID:Europe/Berlin
X-WR-TIMEZONE:Europe/Berlin
BEGIN:VEVENT
UID:374@raffini-kinderevents.de
DTSTART;TZID=Europe/Berlin:20260124T100000
DTEND;TZID=Europe/Berlin:20260124T180000
DTSTAMP:20260123T114828Z
URL:https://www.raffini-kinderevents.de/veranstaltungen/kinder-mitmachakti
 onen-bei-rhein-neckar-creativ-messe-ludwigshafen/
SUMMARY:Kinder Mitmachaktionen bei Rhein-Neckar Creativ Messe Ludwigshafen
DESCRIPTION:Kinder Mitmachaktionen bei Rhein-Neckar Creativ Messe Ludwigsha
 fen mit Recycling Basteln\, Kinderschminken\, Ballons\, Glitzer Tattoos\, 
 Haarsträhnchen und Bubble Braids sowie Foam Clay Styropor Figuren und Sli
 me Workshop\, Glückswerkstatt und Lady Bug besuch mit Raffini Maskottchen
CATEGORIES:Basteln Aktion,Event mit
 Kinderbereich,Familienevent,Kinderattraktion -
 kostenpflichtig,Kreativaktion,Messen,Unsere Events,Veranstaltungstipps
END:VEVENT
BEGIN:VTIMEZONE
TZID:Europe/Berlin
X-LIC-LOCATION:Europe/Berlin
BEGIN:STANDARD
DTSTART:20251026T020000
TZOFFSETFROM:+0200
TZOFFSETTO:+0100
TZNAME:CET
END:STANDARD
END:VTIMEZONE
END:VCALENDAR