BEGIN:VCALENDAR
VERSION:2.0
PRODID:-//wp-events-plugin.com//7.2.3.1//EN
TZID:Europe/Berlin
X-WR-TIMEZONE:Europe/Berlin
BEGIN:VEVENT
UID:364@raffini-kinderevents.de
DTSTART;TZID=Europe/Berlin:20251025T120000
DTEND;TZID=Europe/Berlin:20251025T160000
DTSTAMP:20251028T173802Z
URL:https://www.raffini-kinderevents.de/veranstaltungen/kinderschminken-ha
 lloween-feier-markthaus-mannheim/
SUMMARY:Kinderschminken\, Herbst und Halloween Feier im Markthaus Mannheim
DESCRIPTION:Halloween Kinderschminken bei Herbst und Halloween feier im Mar
 kthaus Mannheim\, ein Fest für die ganze Familie
CATEGORIES:Event mit Kinderbereich,Familienevent,Halloween
 Party,Kinderschminken,Raffini Kinderevents - unsere
 Events,Veranstaltungstipps
LOCATION:Markthaus Mannheim\, Markthaus Mannheim\, Im Morchhof 33-35\, Mann
 heim \, Baden-Württemberg\, 68199\, Germany
X-APPLE-STRUCTURED-LOCATION;VALUE=URI;X-ADDRESS=Markthaus Mannheim\, Im Mor
 chhof 33-35\, Mannheim \, Baden-Württemberg\, 68199\, Germany;X-APPLE-RAD
 IUS=100;X-TITLE=Markthaus Mannheim:geo:0,0
END:VEVENT
BEGIN:VTIMEZONE
TZID:Europe/Berlin
X-LIC-LOCATION:Europe/Berlin
BEGIN:DAYLIGHT
DTSTART:20250330T030000
TZOFFSETFROM:+0100
TZOFFSETTO:+0200
TZNAME:CEST
END:DAYLIGHT
END:VTIMEZONE
END:VCALENDAR