BEGIN:VCALENDAR
VERSION:2.0
PRODID:-//wp-events-plugin.com//7.2.3.1//EN
TZID:Europe/Berlin
X-WR-TIMEZONE:Europe/Berlin
BEGIN:VEVENT
UID:208@raffini-kinderevents.de
DTSTART;TZID=Europe/Berlin:20180203T143000
DTEND;TZID=Europe/Berlin:20180203T170000
DTSTAMP:20240614T125704Z
URL:https://www.raffini-kinderevents.de/veranstaltungen/kinderfasching-par
 ty-bei-esv-ludwigshafen/
SUMMARY:Kinderfasching Party bei ESV Ludwigshafen
DESCRIPTION:Kinderfaschingsfete bei ESV Ludwigshafen
CATEGORIES:Fasching, Karneval,Kinderaktion,Kinderattraktion -
 kostenpflichtig
LOCATION:Autohaus Ebert Weinheim\, Autohaus Ebert\, Weinheim\, Baden-Württ
 emberg\, 69469 \, Germany
X-APPLE-STRUCTURED-LOCATION;VALUE=URI;X-ADDRESS=Autohaus Ebert\, Weinheim\,
  Baden-Württemberg\, 69469 \, Germany;X-APPLE-RADIUS=100;X-TITLE=Autohaus
  Ebert Weinheim:geo:0,0
END:VEVENT
BEGIN:VTIMEZONE
TZID:Europe/Berlin
X-LIC-LOCATION:Europe/Berlin
BEGIN:STANDARD
DTSTART:20171029T020000
TZOFFSETFROM:+0200
TZOFFSETTO:+0100
TZNAME:CET
END:STANDARD
END:VTIMEZONE
END:VCALENDAR