BEGIN:VCALENDAR
VERSION:2.0
PRODID:-//wp-events-plugin.com//7.2.3.1//EN
TZID:Europe/Berlin
X-WR-TIMEZONE:Europe/Berlin
BEGIN:VEVENT
UID:131@raffini-kinderevents.de
DTSTART;TZID=Europe/Berlin:20190825T120000
DTEND;TZID=Europe/Berlin:20190825T170000
DTSTAMP:20240614T125532Z
URL:https://www.raffini-kinderevents.de/veranstaltungen/sommerfest-im-kind
 erparadies-friedenspark-ludwigshafen-2/
SUMMARY:Sommerfest im Kinderparadies Friedenspark Ludwigshafen
DESCRIPTION:Sommerfest im Kinderparadies Friedenspark Ludwigshafen
CATEGORIES:Event mit Kinderbereich,Facepainting,Familienevent,Glitzer
 Tattoos,Kinderaktion,Kinderevent -
 öffentlich,Kinderfest,Kinderschminken,Luftballonmodellage,Raffini
 Kinderevents - unsere Events,Sommerfest
LOCATION:Kapuzinerplanken Mannheim\, Kapuzinerplanken Mannheim\, Mannheim\,
  Baden-Württemberg\, 68161 \, Germany
X-APPLE-STRUCTURED-LOCATION;VALUE=URI;X-ADDRESS=Kapuzinerplanken Mannheim\,
  Mannheim\, Baden-Württemberg\, 68161 \, Germany;X-APPLE-RADIUS=100;X-TIT
 LE=Kapuzinerplanken Mannheim:geo:0,0
END:VEVENT
BEGIN:VTIMEZONE
TZID:Europe/Berlin
X-LIC-LOCATION:Europe/Berlin
BEGIN:DAYLIGHT
DTSTART:20190331T030000
TZOFFSETFROM:+0100
TZOFFSETTO:+0200
TZNAME:CEST
END:DAYLIGHT
END:VTIMEZONE
END:VCALENDAR