BEGIN:VCALENDAR
VERSION:2.0
PRODID:-//wp-events-plugin.com//7.2.3.1//EN
TZID:Europe/Berlin
X-WR-TIMEZONE:Europe/Berlin
BEGIN:VEVENT
UID:312@raffini-kinderevents.de
DTSTART;TZID=Europe/Berlin:20160820T130000
DTEND;TZID=Europe/Berlin:20160820T160000
DTSTAMP:20240614T125957Z
URL:https://www.raffini-kinderevents.de/veranstaltungen/kinderschminken-be
 im-loewen-sommerfest-in-mannheim/
SUMMARY:Kinderschminken beim Löwen Sommerfest in Mannheim
DESCRIPTION:Kinderschminken beim Löwen Sommerfest in Mannheim
CATEGORIES:Event mit Kinderbereich,Familienevent,Raffini Kinderevents -
 unsere Events,Sommerfest
LOCATION:Lincoln Theater\, Worms\, Lincoln Theater\, Worms\, Rheinland-Pfal
 z\, 67547 \, Germany
X-APPLE-STRUCTURED-LOCATION;VALUE=URI;X-ADDRESS=Lincoln Theater\, Worms\, R
 heinland-Pfalz\, 67547 \, Germany;X-APPLE-RADIUS=100;X-TITLE=Lincoln Theat
 er\, Worms:geo:0,0
END:VEVENT
BEGIN:VTIMEZONE
TZID:Europe/Berlin
X-LIC-LOCATION:Europe/Berlin
BEGIN:DAYLIGHT
DTSTART:20160327T030000
TZOFFSETFROM:+0100
TZOFFSETTO:+0200
TZNAME:CEST
END:DAYLIGHT
END:VTIMEZONE
END:VCALENDAR