BEGIN:VCALENDAR
VERSION:2.0
PRODID:-//wp-events-plugin.com//7.2.3.1//EN
TZID:Europe/Berlin
X-WR-TIMEZONE:Europe/Berlin
BEGIN:VEVENT
UID:376@raffini-kinderevents.de
DTSTART;TZID=Europe/Berlin:20260222T100000
DTEND;TZID=Europe/Berlin:20260222T170000
DTSTAMP:20260211T144817Z
URL:https://www.raffini-kinderevents.de/veranstaltungen/mitmach-aktionen-m
 ini-disco-und-glueckswerkstatt-bei-kindereventwelt-messe-speyer/
SUMMARY:Mitmach Aktionen\, Mini Disco und Glückswerkstatt bei KinderEventW
 elt Messe Speyer
DESCRIPTION:Mitmach Aktionen\, Mini Disco und Glückswerkstatt bei KinderEv
 entWelt Messe Speyer
CATEGORIES:Airbrush Tattoos,Animation,Basteln Aktion,Event mit
 Kinderbereich,Familien Events,Glitzer Tattoos,Kinderattraktion -
 kostenpflichtig,Kreativaktion,Maskottchen
 Besuch,Messen,Nachhaltigkeit,Raffini Kinderevents - unsere
 Events,Tanzshow,Veranstaltungstipps
LOCATION:Stadthalle Speyer\, Stadthalle \, Speyer\, Rheinland-Pfalz\, 67346
 \, Germany
X-APPLE-STRUCTURED-LOCATION;VALUE=URI;X-ADDRESS=Stadthalle \, Speyer\, Rhei
 nland-Pfalz\, 67346\, Germany;X-APPLE-RADIUS=100;X-TITLE=Stadthalle Speyer
 :geo:0,0
END:VEVENT
BEGIN:VTIMEZONE
TZID:Europe/Berlin
X-LIC-LOCATION:Europe/Berlin
BEGIN:STANDARD
DTSTART:20251026T020000
TZOFFSETFROM:+0200
TZOFFSETTO:+0100
TZNAME:CET
END:STANDARD
END:VTIMEZONE
END:VCALENDAR