BEGIN:VCALENDAR
VERSION:2.0
PRODID:-//wp-events-plugin.com//7.2.3.1//EN
TZID:Europe/Berlin
X-WR-TIMEZONE:Europe/Berlin
BEGIN:VEVENT
UID:95@raffini-kinderevents.de
DTSTART;TZID=Europe/Berlin:20200307T140000
DTEND;TZID=Europe/Berlin:20200307T160000
DTSTAMP:20240614T125519Z
URL:https://www.raffini-kinderevents.de/veranstaltungen/kinderkleider-basa
 r-in-limburgerhof/
SUMMARY:Kinderkleider-Basar in Limburgerhof
DESCRIPTION:Kinderkleider-Basar in Limburgerhof
CATEGORIES:Börsen,Kinderflohmarkt
LOCATION:Weiße Flotte Heidelberg\, Schiff Rundfahrt\, Weiße Flotte Heidel
 berg \, Heidelberg\, Baden-Württemberg\, 69117\, Germany
X-APPLE-STRUCTURED-LOCATION;VALUE=URI;X-ADDRESS=Weiße Flotte Heidelberg \,
  Heidelberg\, Baden-Württemberg\, 69117\, Germany;X-APPLE-RADIUS=100;X-TI
 TLE=Weiße Flotte Heidelberg\, Schiff Rundfahrt:geo:0,0
END:VEVENT
BEGIN:VTIMEZONE
TZID:Europe/Berlin
X-LIC-LOCATION:Europe/Berlin
BEGIN:STANDARD
DTSTART:20191027T020000
TZOFFSETFROM:+0200
TZOFFSETTO:+0100
TZNAME:CET
END:STANDARD
END:VTIMEZONE
END:VCALENDAR