BEGIN:VCALENDAR
VERSION:2.0
PRODID:-//wp-events-plugin.com//7.2.3.1//EN
TZID:Europe/Berlin
X-WR-TIMEZONE:Europe/Berlin
BEGIN:VEVENT
UID:82@raffini-kinderevents.de
DTSTART;TZID=Europe/Berlin:20200224T140000
DTEND;TZID=Europe/Berlin:20200224T170000
DTSTAMP:20240614T125515Z
URL:https://www.raffini-kinderevents.de/veranstaltungen/kinderfasching-car
 neval-club-modglotzer-ludwigshafen/
SUMMARY:Kinderfasching Carneval Club Modglotzer\, Ludwigshafen
DESCRIPTION:Kinderfasching Carneval Club Modglotzer\, Ludwigshafen
CATEGORIES:Event mit Kinderbereich,Familienevent,Fasching,
 Karneval,Kinderattraktion - kostenpflichtig
LOCATION:ROFU Kinderland Bruchsal\, ROFU Kinderland\, Bruchsal\, Baden-Wür
 ttemberg\, 76646\, Germany
X-APPLE-STRUCTURED-LOCATION;VALUE=URI;X-ADDRESS=ROFU Kinderland\, Bruchsal\
 , Baden-Württemberg\, 76646\, Germany;X-APPLE-RADIUS=100;X-TITLE=ROFU Kin
 derland Bruchsal:geo:0,0
END:VEVENT
BEGIN:VTIMEZONE
TZID:Europe/Berlin
X-LIC-LOCATION:Europe/Berlin
BEGIN:STANDARD
DTSTART:20191027T020000
TZOFFSETFROM:+0200
TZOFFSETTO:+0100
TZNAME:CET
END:STANDARD
END:VTIMEZONE
END:VCALENDAR