BEGIN:VCALENDAR
VERSION:2.0
PRODID:-//wp-events-plugin.com//7.2.3.1//EN
TZID:Europe/Berlin
X-WR-TIMEZONE:Europe/Berlin
BEGIN:VEVENT
UID:186@raffini-kinderevents.de
DTSTART;TZID=Europe/Berlin:20180506T130000
DTEND;TZID=Europe/Berlin:20180506T170000
DTSTAMP:20240614T125558Z
URL:https://www.raffini-kinderevents.de/veranstaltungen/kinderschminken-gl
 itzer-tattoos-beim-hoffexpress-am-maimarkt-mannheim-2/
SUMMARY:Kinderschminken\, Glitzer Tattoos beim Hoffexpress am Maimarkt Mann
 heim
DESCRIPTION:Kinderschminken\, Glitzer Tattoos beim Hoffexpress am Maimarkt 
 Mannheim
CATEGORIES:Event mit
 Kinderbereich,Facepainting,Familienevent,Kinderaktion,Kinderschminken,Mess
 en,Raffini Kinderevents - unsere Events
LOCATION:Stadthalle Speyer\, Stadthalle \, Speyer\, Rheinland-Pfalz\, 67346
 \, Germany
X-APPLE-STRUCTURED-LOCATION;VALUE=URI;X-ADDRESS=Stadthalle \, Speyer\, Rhei
 nland-Pfalz\, 67346\, Germany;X-APPLE-RADIUS=100;X-TITLE=Stadthalle Speyer
 :geo:0,0
END:VEVENT
BEGIN:VTIMEZONE
TZID:Europe/Berlin
X-LIC-LOCATION:Europe/Berlin
BEGIN:DAYLIGHT
DTSTART:20180325T030000
TZOFFSETFROM:+0100
TZOFFSETTO:+0200
TZNAME:CEST
END:DAYLIGHT
END:VTIMEZONE
END:VCALENDAR