BEGIN:VCALENDAR
VERSION:2.0
PRODID:-//wp-events-plugin.com//7.2.3.1//EN
TZID:Europe/Berlin
X-WR-TIMEZONE:Europe/Berlin
BEGIN:VEVENT
UID:90@raffini-kinderevents.de
DTSTART;TZID=Europe/Berlin:20200214T170000
DTEND;TZID=Europe/Berlin:20200214T190000
DTSTAMP:20240614T125517Z
URL:https://www.raffini-kinderevents.de/veranstaltungen/coole-kids-faschin
 gs-party-speyer/
SUMMARY:Coole Kids Faschings- Party Speyer
DESCRIPTION:Coole Kids Faschings- Party Speyer
CATEGORIES:Familienevent,Fasching, Karneval,Fest,Kinderattraktion -
 kostenpflichtig
LOCATION:Bohrermarkt Neckargemünd\, Bohrermarkt Neckargemünd\, Neckargem
 ünd\, Baden-Württemberg\, 69151 \, Germany
X-APPLE-STRUCTURED-LOCATION;VALUE=URI;X-ADDRESS=Bohrermarkt Neckargemünd\,
  Neckargemünd\, Baden-Württemberg\, 69151 \, Germany;X-APPLE-RADIUS=100;
 X-TITLE=Bohrermarkt Neckargemünd:geo:0,0
END:VEVENT
BEGIN:VTIMEZONE
TZID:Europe/Berlin
X-LIC-LOCATION:Europe/Berlin
BEGIN:STANDARD
DTSTART:20191027T020000
TZOFFSETFROM:+0200
TZOFFSETTO:+0100
TZNAME:CET
END:STANDARD
END:VTIMEZONE
END:VCALENDAR