BEGIN:VCALENDAR
VERSION:2.0
PRODID:-//wp-events-plugin.com//7.2.3.1//EN
TZID:Europe/Berlin
X-WR-TIMEZONE:Europe/Berlin
BEGIN:VEVENT
UID:212@raffini-kinderevents.de
DTSTART;TZID=Europe/Berlin:20171206T140000
DTEND;TZID=Europe/Berlin:20171206T180000
DTSTAMP:20240614T125705Z
URL:https://www.raffini-kinderevents.de/veranstaltungen/nikolaus-foto-akti
 onfuer-kinder-in-kaiser-passage-worms/
SUMMARY:Nikolaus Foto Aktionfuer Kinder in Kaiser Passage Worms
DESCRIPTION:Nikolaus Foto Aktionfuer Kinder in Kaiser Passage Worms
CATEGORIES:Event mit
 Kinderbereich,Familienevent,Kinderaktion,Nikolaus,Raffini Kinderevents -
 unsere Events
LOCATION:Winzerdorf Landau-Nußdorf\, Weinerlebnispfad Nußdorf\, Landau-Nu
 ßdorf\, 76829 \, Germany
X-APPLE-STRUCTURED-LOCATION;VALUE=URI;X-ADDRESS=Weinerlebnispfad Nußdorf\,
  Landau-Nußdorf\, 76829 \, Germany;X-APPLE-RADIUS=100;X-TITLE=Winzerdorf 
 Landau-Nußdorf:geo:0,0
END:VEVENT
BEGIN:VTIMEZONE
TZID:Europe/Berlin
X-LIC-LOCATION:Europe/Berlin
BEGIN:STANDARD
DTSTART:20171029T020000
TZOFFSETFROM:+0200
TZOFFSETTO:+0100
TZNAME:CET
END:STANDARD
END:VTIMEZONE
END:VCALENDAR