BEGIN:VCALENDAR
VERSION:2.0
PRODID:-//wp-events-plugin.com//7.2.3.1//EN
TZID:Europe/Berlin
X-WR-TIMEZONE:Europe/Berlin
BEGIN:VEVENT
UID:317@raffini-kinderevents.de
DTSTART;TZID=Europe/Berlin:20160806T140000
DTEND;TZID=Europe/Berlin:20160806T180000
DTSTAMP:20240614T125958Z
URL:https://www.raffini-kinderevents.de/veranstaltungen/kinderspass-beim-f
 ranklin-familienflohmarkt-in-mannheim/
SUMMARY:Kinderspass beim Franklin Familienflohmarkt in Mannheim
DESCRIPTION:Kinderspass beim Franklin Familienflohmarkt in Mannheim
CATEGORIES:Event mit Kinderbereich,Familienevent,Kinderflohmarkt,Raffini
 Kinderevents - unsere Events,Sommerfest
LOCATION:Integrierte Gesamtschule Ernst Bloch\, Integrierte Gesamtschule Er
 nst Bloch\, Ludwigshafen-Oggersheim\, Rheinland-Pfalz\, 67071\, Germany
X-APPLE-STRUCTURED-LOCATION;VALUE=URI;X-ADDRESS=Integrierte Gesamtschule Er
 nst Bloch\, Ludwigshafen-Oggersheim\, Rheinland-Pfalz\, 67071\, Germany;X-
 APPLE-RADIUS=100;X-TITLE=Integrierte Gesamtschule Ernst Bloch:geo:0,0
END:VEVENT
BEGIN:VTIMEZONE
TZID:Europe/Berlin
X-LIC-LOCATION:Europe/Berlin
BEGIN:DAYLIGHT
DTSTART:20160327T030000
TZOFFSETFROM:+0100
TZOFFSETTO:+0200
TZNAME:CEST
END:DAYLIGHT
END:VTIMEZONE
END:VCALENDAR