BEGIN:VCALENDAR
VERSION:2.0
PRODID:-//wp-events-plugin.com//7.2.3.1//EN
TZID:Europe/Berlin
X-WR-TIMEZONE:Europe/Berlin
BEGIN:VEVENT
UID:17@raffini-kinderevents.de
DTSTART;TZID=Europe/Berlin:20240629T130000
DTEND;TZID=Europe/Berlin:20240629T180000
DTSTAMP:20240422T105924Z
URL:https://www.raffini-kinderevents.de/veranstaltungen/raffini-kindereven
 ts-rheinuferfest-ludwigshafen-2024/
SUMMARY:Raffini Kinderevents beim Rheinuferfest Ludwigshafen 2024
DESCRIPTION:Raffini Kinderevents beim Rheinuferfest Ludwigshafen 2024
CATEGORIES:Glitzer Tattoos,Kinderfeste,Kinderschminken,Spiele
 Animation,Stadtfest,unsere Jobs
LOCATION:Platz d. Deutschen Einheit Ludwigshafen\, Platz d. Deutschen Einhe
 it\, Ludwigshafen am Rhein\, Rheinland-Pfalz\, 67061\, Germany
X-APPLE-STRUCTURED-LOCATION;VALUE=URI;X-ADDRESS=Platz d. Deutschen Einheit\
 , Ludwigshafen am Rhein\, Rheinland-Pfalz\, 67061\, Germany;X-APPLE-RADIUS
 =100;X-TITLE=Platz d. Deutschen Einheit Ludwigshafen:geo:0,0
END:VEVENT
BEGIN:VTIMEZONE
TZID:Europe/Berlin
X-LIC-LOCATION:Europe/Berlin
BEGIN:DAYLIGHT
DTSTART:20240331T030000
TZOFFSETFROM:+0100
TZOFFSETTO:+0200
TZNAME:CEST
END:DAYLIGHT
END:VTIMEZONE
END:VCALENDAR